BEGIN:VCALENDAR
VERSION:2.0
PRODID:-//Bhakti Marga Austria - ECPv6.15.20//NONSGML v1.0//EN
CALSCALE:GREGORIAN
METHOD:PUBLISH
X-WR-CALNAME:Bhakti Marga Austria
X-ORIGINAL-URL:https://bhaktimarga.at
X-WR-CALDESC:Veranstaltungen für Bhakti Marga Austria
REFRESH-INTERVAL;VALUE=DURATION:PT1H
X-Robots-Tag:noindex
X-PUBLISHED-TTL:PT1H
BEGIN:VTIMEZONE
TZID:Europe/Paris
BEGIN:DAYLIGHT
TZOFFSETFROM:+0100
TZOFFSETTO:+0200
TZNAME:CEST
DTSTART:20250330T010000
END:DAYLIGHT
BEGIN:STANDARD
TZOFFSETFROM:+0200
TZOFFSETTO:+0100
TZNAME:CET
DTSTART:20251026T010000
END:STANDARD
BEGIN:DAYLIGHT
TZOFFSETFROM:+0100
TZOFFSETTO:+0200
TZNAME:CEST
DTSTART:20260329T010000
END:DAYLIGHT
BEGIN:STANDARD
TZOFFSETFROM:+0200
TZOFFSETTO:+0100
TZNAME:CET
DTSTART:20261025T010000
END:STANDARD
BEGIN:DAYLIGHT
TZOFFSETFROM:+0100
TZOFFSETTO:+0200
TZNAME:CEST
DTSTART:20270328T010000
END:DAYLIGHT
BEGIN:STANDARD
TZOFFSETFROM:+0200
TZOFFSETTO:+0100
TZNAME:CET
DTSTART:20271031T010000
END:STANDARD
END:VTIMEZONE
BEGIN:VEVENT
DTSTART;VALUE=DATE:20260430
DTEND;VALUE=DATE:20260501
DTSTAMP:20260419T184700
CREATED:20260131T204929Z
LAST-MODIFIED:20260131T204929Z
UID:10001167-1777572000-1777575600@bhaktimarga.at
SUMMARY:OM Chanting & Mantren singen – Linz & Andorf
DESCRIPTION:OM Chanting & Mantren singen – Linz & Andorf \nWir laden euch herzlich ein\, gemeinsam mit uns OM zu chanten und Mantren zu singen – und euch eine wohltuende Auszeit für Herz\, Geist und Seele zu nehmen. \nDie Termine für das 1. Halbjahr 2026 findet ihr auf dem Flyer. \nOM Chanting wirkt durch die kraftvolle Schwingung des OM harmonisierend – für dich selbst und für die Welt. Beim Mantren singen lassen wir den Alltag los\, öffnen unsere Herzen und tauchen ein in Klang\, Rhythmus und Gemeinschaft – für mehr Ruhe\, Freude und echte Verbundenheit.
URL:https://bhaktimarga.at/event/om-chanting-mantren-singen-linz-andorf/2026-04-30/
ATTACH;FMTTYPE=image/jpeg:https://bhaktimarga.at/wp-content/uploads/2026/01/2026-01-31-21.39.32.jpg
END:VEVENT
BEGIN:VEVENT
DTSTART;VALUE=DATE:20260508
DTEND;VALUE=DATE:20260509
DTSTAMP:20260419T184700
CREATED:20260131T204929Z
LAST-MODIFIED:20260131T204929Z
UID:10001168-1778263200-1778266800@bhaktimarga.at
SUMMARY:OM Chanting & Mantren singen – Linz & Andorf
DESCRIPTION:OM Chanting & Mantren singen – Linz & Andorf \nWir laden euch herzlich ein\, gemeinsam mit uns OM zu chanten und Mantren zu singen – und euch eine wohltuende Auszeit für Herz\, Geist und Seele zu nehmen. \nDie Termine für das 1. Halbjahr 2026 findet ihr auf dem Flyer. \nOM Chanting wirkt durch die kraftvolle Schwingung des OM harmonisierend – für dich selbst und für die Welt. Beim Mantren singen lassen wir den Alltag los\, öffnen unsere Herzen und tauchen ein in Klang\, Rhythmus und Gemeinschaft – für mehr Ruhe\, Freude und echte Verbundenheit.
URL:https://bhaktimarga.at/event/om-chanting-mantren-singen-linz-andorf/2026-05-08/
ATTACH;FMTTYPE=image/jpeg:https://bhaktimarga.at/wp-content/uploads/2026/01/2026-01-31-21.39.32.jpg
END:VEVENT
BEGIN:VEVENT
DTSTART;VALUE=DATE:20260513
DTEND;VALUE=DATE:20260514
DTSTAMP:20260419T184700
CREATED:20260131T204929Z
LAST-MODIFIED:20260131T204929Z
UID:10001169-1778695200-1778698800@bhaktimarga.at
SUMMARY:OM Chanting & Mantren singen – Linz & Andorf
DESCRIPTION:OM Chanting & Mantren singen – Linz & Andorf \nWir laden euch herzlich ein\, gemeinsam mit uns OM zu chanten und Mantren zu singen – und euch eine wohltuende Auszeit für Herz\, Geist und Seele zu nehmen. \nDie Termine für das 1. Halbjahr 2026 findet ihr auf dem Flyer. \nOM Chanting wirkt durch die kraftvolle Schwingung des OM harmonisierend – für dich selbst und für die Welt. Beim Mantren singen lassen wir den Alltag los\, öffnen unsere Herzen und tauchen ein in Klang\, Rhythmus und Gemeinschaft – für mehr Ruhe\, Freude und echte Verbundenheit.
URL:https://bhaktimarga.at/event/om-chanting-mantren-singen-linz-andorf/2026-05-13/
ATTACH;FMTTYPE=image/jpeg:https://bhaktimarga.at/wp-content/uploads/2026/01/2026-01-31-21.39.32.jpg
END:VEVENT
BEGIN:VEVENT
DTSTART;VALUE=DATE:20260601
DTEND;VALUE=DATE:20260602
DTSTAMP:20260419T184700
CREATED:20260131T204929Z
LAST-MODIFIED:20260131T204929Z
UID:10001170-1780336800-1780340400@bhaktimarga.at
SUMMARY:OM Chanting & Mantren singen – Linz & Andorf
DESCRIPTION:OM Chanting & Mantren singen – Linz & Andorf \nWir laden euch herzlich ein\, gemeinsam mit uns OM zu chanten und Mantren zu singen – und euch eine wohltuende Auszeit für Herz\, Geist und Seele zu nehmen. \nDie Termine für das 1. Halbjahr 2026 findet ihr auf dem Flyer. \nOM Chanting wirkt durch die kraftvolle Schwingung des OM harmonisierend – für dich selbst und für die Welt. Beim Mantren singen lassen wir den Alltag los\, öffnen unsere Herzen und tauchen ein in Klang\, Rhythmus und Gemeinschaft – für mehr Ruhe\, Freude und echte Verbundenheit.
URL:https://bhaktimarga.at/event/om-chanting-mantren-singen-linz-andorf/2026-06-01/
ATTACH;FMTTYPE=image/jpeg:https://bhaktimarga.at/wp-content/uploads/2026/01/2026-01-31-21.39.32.jpg
END:VEVENT
BEGIN:VEVENT
DTSTART;VALUE=DATE:20260605
DTEND;VALUE=DATE:20260606
DTSTAMP:20260419T184700
CREATED:20260131T204929Z
LAST-MODIFIED:20260131T204929Z
UID:10001171-1780682400-1780686000@bhaktimarga.at
SUMMARY:OM Chanting & Mantren singen – Linz & Andorf
DESCRIPTION:OM Chanting & Mantren singen – Linz & Andorf \nWir laden euch herzlich ein\, gemeinsam mit uns OM zu chanten und Mantren zu singen – und euch eine wohltuende Auszeit für Herz\, Geist und Seele zu nehmen. \nDie Termine für das 1. Halbjahr 2026 findet ihr auf dem Flyer. \nOM Chanting wirkt durch die kraftvolle Schwingung des OM harmonisierend – für dich selbst und für die Welt. Beim Mantren singen lassen wir den Alltag los\, öffnen unsere Herzen und tauchen ein in Klang\, Rhythmus und Gemeinschaft – für mehr Ruhe\, Freude und echte Verbundenheit.
URL:https://bhaktimarga.at/event/om-chanting-mantren-singen-linz-andorf/2026-06-05/
ATTACH;FMTTYPE=image/jpeg:https://bhaktimarga.at/wp-content/uploads/2026/01/2026-01-31-21.39.32.jpg
END:VEVENT
BEGIN:VEVENT
DTSTART;VALUE=DATE:20260630
DTEND;VALUE=DATE:20260701
DTSTAMP:20260419T184700
CREATED:20260131T204929Z
LAST-MODIFIED:20260131T204929Z
UID:10001172-1782842400-1782846000@bhaktimarga.at
SUMMARY:OM Chanting & Mantren singen – Linz & Andorf
DESCRIPTION:OM Chanting & Mantren singen – Linz & Andorf \nWir laden euch herzlich ein\, gemeinsam mit uns OM zu chanten und Mantren zu singen – und euch eine wohltuende Auszeit für Herz\, Geist und Seele zu nehmen. \nDie Termine für das 1. Halbjahr 2026 findet ihr auf dem Flyer. \nOM Chanting wirkt durch die kraftvolle Schwingung des OM harmonisierend – für dich selbst und für die Welt. Beim Mantren singen lassen wir den Alltag los\, öffnen unsere Herzen und tauchen ein in Klang\, Rhythmus und Gemeinschaft – für mehr Ruhe\, Freude und echte Verbundenheit.
URL:https://bhaktimarga.at/event/om-chanting-mantren-singen-linz-andorf/2026-06-30/
ATTACH;FMTTYPE=image/jpeg:https://bhaktimarga.at/wp-content/uploads/2026/01/2026-01-31-21.39.32.jpg
END:VEVENT
BEGIN:VEVENT
DTSTART;VALUE=DATE:20260703
DTEND;VALUE=DATE:20260704
DTSTAMP:20260419T184700
CREATED:20260131T204929Z
LAST-MODIFIED:20260131T204929Z
UID:10001173-1783101600-1783105200@bhaktimarga.at
SUMMARY:OM Chanting & Mantren singen – Linz & Andorf
DESCRIPTION:OM Chanting & Mantren singen – Linz & Andorf \nWir laden euch herzlich ein\, gemeinsam mit uns OM zu chanten und Mantren zu singen – und euch eine wohltuende Auszeit für Herz\, Geist und Seele zu nehmen. \nDie Termine für das 1. Halbjahr 2026 findet ihr auf dem Flyer. \nOM Chanting wirkt durch die kraftvolle Schwingung des OM harmonisierend – für dich selbst und für die Welt. Beim Mantren singen lassen wir den Alltag los\, öffnen unsere Herzen und tauchen ein in Klang\, Rhythmus und Gemeinschaft – für mehr Ruhe\, Freude und echte Verbundenheit.
URL:https://bhaktimarga.at/event/om-chanting-mantren-singen-linz-andorf/2026-07-03/
ATTACH;FMTTYPE=image/jpeg:https://bhaktimarga.at/wp-content/uploads/2026/01/2026-01-31-21.39.32.jpg
END:VEVENT
END:VCALENDAR