BEGIN:VCALENDAR
VERSION:2.0
PRODID:-//Bhakti Marga Austria - ECPv6.15.20//NONSGML v1.0//EN
CALSCALE:GREGORIAN
METHOD:PUBLISH
X-WR-CALNAME:Bhakti Marga Austria
X-ORIGINAL-URL:https://bhaktimarga.at
X-WR-CALDESC:Veranstaltungen für Bhakti Marga Austria
REFRESH-INTERVAL;VALUE=DURATION:PT1H
X-Robots-Tag:noindex
X-PUBLISHED-TTL:PT1H
BEGIN:VTIMEZONE
TZID:Europe/Paris
BEGIN:DAYLIGHT
TZOFFSETFROM:+0100
TZOFFSETTO:+0200
TZNAME:CEST
DTSTART:20250330T010000
END:DAYLIGHT
BEGIN:STANDARD
TZOFFSETFROM:+0200
TZOFFSETTO:+0100
TZNAME:CET
DTSTART:20251026T010000
END:STANDARD
BEGIN:DAYLIGHT
TZOFFSETFROM:+0100
TZOFFSETTO:+0200
TZNAME:CEST
DTSTART:20260329T010000
END:DAYLIGHT
BEGIN:STANDARD
TZOFFSETFROM:+0200
TZOFFSETTO:+0100
TZNAME:CET
DTSTART:20261025T010000
END:STANDARD
BEGIN:DAYLIGHT
TZOFFSETFROM:+0100
TZOFFSETTO:+0200
TZNAME:CEST
DTSTART:20270328T010000
END:DAYLIGHT
BEGIN:STANDARD
TZOFFSETFROM:+0200
TZOFFSETTO:+0100
TZNAME:CET
DTSTART:20271031T010000
END:STANDARD
END:VTIMEZONE
BEGIN:VEVENT
DTSTART;VALUE=DATE:20260501
DTEND;VALUE=DATE:20260502
DTSTAMP:20260419T183330
CREATED:20260416T204413Z
LAST-MODIFIED:20260416T204413Z
UID:10001177-1777593600-1777679999@bhaktimarga.at
SUMMARY:OM Chanting
DESCRIPTION:
URL:https://bhaktimarga.at/event/om-chanting-2/2026-05-01/
ATTACH;FMTTYPE=image/jpeg:https://bhaktimarga.at/wp-content/uploads/2026/04/2026-04-16-22.41.06.jpg
END:VEVENT
BEGIN:VEVENT
DTSTART;TZID=Europe/Paris:20260506T200000
DTEND;TZID=Europe/Paris:20260506T210000
DTSTAMP:20260419T183330
CREATED:20230803T205012Z
LAST-MODIFIED:20230804T124630Z
UID:10000155-1778097600-1778101200@bhaktimarga.at
SUMMARY:Bhagavad Gita Circle
DESCRIPTION:Die Shreemad Bhagavad Gita ist eine der ältesten Schriften der Welt.  \nSie enthält das unmittelbare Wort Gottes für die gesamte Menschheit\, unabhängig von Religion und Tradition.  \n“Shreemad Bhagavad Gita” bedeutet wörtlich übersetzt “das Lied Gottes “. \nDie Gita ist ein Buch der Selbstfindung und eine Reise zu unserem wahren Selbst . \nWir treffen uns\, jeden Mittwoch über Zoom \, von 20 bis 21 Uhr\, lesen und besprechen die Verse und Kommentare von Paramahamsa Sri Swami Vishwananda. \nKontakt: austria@bhaktimarga.at
URL:https://bhaktimarga.at/event/bhagavad-gita-circle/2026-05-06/
ATTACH;FMTTYPE=image/jpeg:https://bhaktimarga.at/wp-content/uploads/2023/08/2023-08-03-22.48.54.jpg
END:VEVENT
BEGIN:VEVENT
DTSTART;VALUE=DATE:20260508
DTEND;VALUE=DATE:20260509
DTSTAMP:20260419T183330
CREATED:20260416T204413Z
LAST-MODIFIED:20260416T204413Z
UID:10001178-1778198400-1778284799@bhaktimarga.at
SUMMARY:OM Chanting
DESCRIPTION:
URL:https://bhaktimarga.at/event/om-chanting-2/2026-05-08/
ATTACH;FMTTYPE=image/jpeg:https://bhaktimarga.at/wp-content/uploads/2026/04/2026-04-16-22.41.06.jpg
END:VEVENT
BEGIN:VEVENT
DTSTART;VALUE=DATE:20260508
DTEND;VALUE=DATE:20260509
DTSTAMP:20260419T183330
CREATED:20260131T204929Z
LAST-MODIFIED:20260131T204929Z
UID:10001168-1778263200-1778266800@bhaktimarga.at
SUMMARY:OM Chanting & Mantren singen – Linz & Andorf
DESCRIPTION:OM Chanting & Mantren singen – Linz & Andorf \nWir laden euch herzlich ein\, gemeinsam mit uns OM zu chanten und Mantren zu singen – und euch eine wohltuende Auszeit für Herz\, Geist und Seele zu nehmen. \nDie Termine für das 1. Halbjahr 2026 findet ihr auf dem Flyer. \nOM Chanting wirkt durch die kraftvolle Schwingung des OM harmonisierend – für dich selbst und für die Welt. Beim Mantren singen lassen wir den Alltag los\, öffnen unsere Herzen und tauchen ein in Klang\, Rhythmus und Gemeinschaft – für mehr Ruhe\, Freude und echte Verbundenheit.
URL:https://bhaktimarga.at/event/om-chanting-mantren-singen-linz-andorf/2026-05-08/
ATTACH;FMTTYPE=image/jpeg:https://bhaktimarga.at/wp-content/uploads/2026/01/2026-01-31-21.39.32.jpg
END:VEVENT
BEGIN:VEVENT
DTSTART;VALUE=DATE:20260513
DTEND;VALUE=DATE:20260514
DTSTAMP:20260419T183330
CREATED:20260131T204929Z
LAST-MODIFIED:20260131T204929Z
UID:10001169-1778695200-1778698800@bhaktimarga.at
SUMMARY:OM Chanting & Mantren singen – Linz & Andorf
DESCRIPTION:OM Chanting & Mantren singen – Linz & Andorf \nWir laden euch herzlich ein\, gemeinsam mit uns OM zu chanten und Mantren zu singen – und euch eine wohltuende Auszeit für Herz\, Geist und Seele zu nehmen. \nDie Termine für das 1. Halbjahr 2026 findet ihr auf dem Flyer. \nOM Chanting wirkt durch die kraftvolle Schwingung des OM harmonisierend – für dich selbst und für die Welt. Beim Mantren singen lassen wir den Alltag los\, öffnen unsere Herzen und tauchen ein in Klang\, Rhythmus und Gemeinschaft – für mehr Ruhe\, Freude und echte Verbundenheit.
URL:https://bhaktimarga.at/event/om-chanting-mantren-singen-linz-andorf/2026-05-13/
ATTACH;FMTTYPE=image/jpeg:https://bhaktimarga.at/wp-content/uploads/2026/01/2026-01-31-21.39.32.jpg
END:VEVENT
BEGIN:VEVENT
DTSTART;TZID=Europe/Paris:20260513T200000
DTEND;TZID=Europe/Paris:20260513T210000
DTSTAMP:20260419T183330
CREATED:20230803T205012Z
LAST-MODIFIED:20230804T124630Z
UID:10000156-1778702400-1778706000@bhaktimarga.at
SUMMARY:Bhagavad Gita Circle
DESCRIPTION:Die Shreemad Bhagavad Gita ist eine der ältesten Schriften der Welt.  \nSie enthält das unmittelbare Wort Gottes für die gesamte Menschheit\, unabhängig von Religion und Tradition.  \n“Shreemad Bhagavad Gita” bedeutet wörtlich übersetzt “das Lied Gottes “. \nDie Gita ist ein Buch der Selbstfindung und eine Reise zu unserem wahren Selbst . \nWir treffen uns\, jeden Mittwoch über Zoom \, von 20 bis 21 Uhr\, lesen und besprechen die Verse und Kommentare von Paramahamsa Sri Swami Vishwananda. \nKontakt: austria@bhaktimarga.at
URL:https://bhaktimarga.at/event/bhagavad-gita-circle/2026-05-13/
ATTACH;FMTTYPE=image/jpeg:https://bhaktimarga.at/wp-content/uploads/2023/08/2023-08-03-22.48.54.jpg
END:VEVENT
BEGIN:VEVENT
DTSTART;VALUE=DATE:20260515
DTEND;VALUE=DATE:20260516
DTSTAMP:20260419T183330
CREATED:20260416T204413Z
LAST-MODIFIED:20260416T204413Z
UID:10001179-1778803200-1778889599@bhaktimarga.at
SUMMARY:OM Chanting
DESCRIPTION:
URL:https://bhaktimarga.at/event/om-chanting-2/2026-05-15/
ATTACH;FMTTYPE=image/jpeg:https://bhaktimarga.at/wp-content/uploads/2026/04/2026-04-16-22.41.06.jpg
END:VEVENT
BEGIN:VEVENT
DTSTART;TZID=Europe/Paris:20260520T200000
DTEND;TZID=Europe/Paris:20260520T210000
DTSTAMP:20260419T183330
CREATED:20230803T205012Z
LAST-MODIFIED:20230804T124630Z
UID:10000157-1779307200-1779310800@bhaktimarga.at
SUMMARY:Bhagavad Gita Circle
DESCRIPTION:Die Shreemad Bhagavad Gita ist eine der ältesten Schriften der Welt.  \nSie enthält das unmittelbare Wort Gottes für die gesamte Menschheit\, unabhängig von Religion und Tradition.  \n“Shreemad Bhagavad Gita” bedeutet wörtlich übersetzt “das Lied Gottes “. \nDie Gita ist ein Buch der Selbstfindung und eine Reise zu unserem wahren Selbst . \nWir treffen uns\, jeden Mittwoch über Zoom \, von 20 bis 21 Uhr\, lesen und besprechen die Verse und Kommentare von Paramahamsa Sri Swami Vishwananda. \nKontakt: austria@bhaktimarga.at
URL:https://bhaktimarga.at/event/bhagavad-gita-circle/2026-05-20/
ATTACH;FMTTYPE=image/jpeg:https://bhaktimarga.at/wp-content/uploads/2023/08/2023-08-03-22.48.54.jpg
END:VEVENT
BEGIN:VEVENT
DTSTART;VALUE=DATE:20260522
DTEND;VALUE=DATE:20260523
DTSTAMP:20260419T183330
CREATED:20260416T204413Z
LAST-MODIFIED:20260416T204413Z
UID:10001180-1779408000-1779494399@bhaktimarga.at
SUMMARY:OM Chanting
DESCRIPTION:
URL:https://bhaktimarga.at/event/om-chanting-2/2026-05-22/
ATTACH;FMTTYPE=image/jpeg:https://bhaktimarga.at/wp-content/uploads/2026/04/2026-04-16-22.41.06.jpg
END:VEVENT
BEGIN:VEVENT
DTSTART;TZID=Europe/Paris:20260527T200000
DTEND;TZID=Europe/Paris:20260527T210000
DTSTAMP:20260419T183330
CREATED:20230803T205012Z
LAST-MODIFIED:20230804T124630Z
UID:10000158-1779912000-1779915600@bhaktimarga.at
SUMMARY:Bhagavad Gita Circle
DESCRIPTION:Die Shreemad Bhagavad Gita ist eine der ältesten Schriften der Welt.  \nSie enthält das unmittelbare Wort Gottes für die gesamte Menschheit\, unabhängig von Religion und Tradition.  \n“Shreemad Bhagavad Gita” bedeutet wörtlich übersetzt “das Lied Gottes “. \nDie Gita ist ein Buch der Selbstfindung und eine Reise zu unserem wahren Selbst . \nWir treffen uns\, jeden Mittwoch über Zoom \, von 20 bis 21 Uhr\, lesen und besprechen die Verse und Kommentare von Paramahamsa Sri Swami Vishwananda. \nKontakt: austria@bhaktimarga.at
URL:https://bhaktimarga.at/event/bhagavad-gita-circle/2026-05-27/
ATTACH;FMTTYPE=image/jpeg:https://bhaktimarga.at/wp-content/uploads/2023/08/2023-08-03-22.48.54.jpg
END:VEVENT
BEGIN:VEVENT
DTSTART;VALUE=DATE:20260529
DTEND;VALUE=DATE:20260530
DTSTAMP:20260419T183330
CREATED:20260416T204413Z
LAST-MODIFIED:20260416T204413Z
UID:10001181-1780012800-1780099199@bhaktimarga.at
SUMMARY:OM Chanting
DESCRIPTION:
URL:https://bhaktimarga.at/event/om-chanting-2/2026-05-29/
ATTACH;FMTTYPE=image/jpeg:https://bhaktimarga.at/wp-content/uploads/2026/04/2026-04-16-22.41.06.jpg
END:VEVENT
BEGIN:VEVENT
DTSTART;TZID=Europe/Paris:20260530T160000
DTEND;TZID=Europe/Paris:20260530T163000
DTSTAMP:20260419T183330
CREATED:20250216T204431Z
LAST-MODIFIED:20250216T204432Z
UID:10001067-1780156800-1780158600@bhaktimarga.at
SUMMARY:BETE FÜR DIE WELT — ONLINE
DESCRIPTION:Bete für die Welt — online mit Paramahamsa Vishwananda \n\n‘Lasst uns uns miteinander verbinden und gemeinsam als eine Familie beten.’ \n– Paramahamsa Vishwananda \nParamahamsa Vishwananda lädt jeden ein\, innezuhalten mit dem\, was er oder sie gerade tut\, um einmal pro Monat gemeinsam 30 Minuten zu beten. \nBitte nutze DIESEN LINK zum Einsenden der Namen von Menschen\, die Hilfe durch Gebete brauchen! \nEs ist wichtig\, nur den oder die Vor- und Nachnamen jeder Person einzusenden\, ohne noch weitere Details hinzuzufügen. \nTeilnehmen
URL:https://bhaktimarga.at/event/bete-fuer-die-welt-online-2/2026-05-30/
ATTACH;FMTTYPE=image/jpeg:https://bhaktimarga.at/wp-content/uploads/2024/12/2024-12-03-21.27.54.jpg
END:VEVENT
END:VCALENDAR