BEGIN:VCALENDAR
VERSION:2.0
PRODID:-//Bhakti Marga Austria - ECPv6.15.20//NONSGML v1.0//EN
CALSCALE:GREGORIAN
METHOD:PUBLISH
X-ORIGINAL-URL:https://bhaktimarga.at
X-WR-CALDESC:Veranstaltungen für Bhakti Marga Austria
REFRESH-INTERVAL;VALUE=DURATION:PT1H
X-Robots-Tag:noindex
X-PUBLISHED-TTL:PT1H
BEGIN:VTIMEZONE
TZID:Europe/Paris
BEGIN:DAYLIGHT
TZOFFSETFROM:+0100
TZOFFSETTO:+0200
TZNAME:CEST
DTSTART:20230326T010000
END:DAYLIGHT
BEGIN:STANDARD
TZOFFSETFROM:+0200
TZOFFSETTO:+0100
TZNAME:CET
DTSTART:20231029T010000
END:STANDARD
BEGIN:DAYLIGHT
TZOFFSETFROM:+0100
TZOFFSETTO:+0200
TZNAME:CEST
DTSTART:20240331T010000
END:DAYLIGHT
BEGIN:STANDARD
TZOFFSETFROM:+0200
TZOFFSETTO:+0100
TZNAME:CET
DTSTART:20241027T010000
END:STANDARD
BEGIN:DAYLIGHT
TZOFFSETFROM:+0100
TZOFFSETTO:+0200
TZNAME:CEST
DTSTART:20250330T010000
END:DAYLIGHT
BEGIN:STANDARD
TZOFFSETFROM:+0200
TZOFFSETTO:+0100
TZNAME:CET
DTSTART:20251026T010000
END:STANDARD
BEGIN:DAYLIGHT
TZOFFSETFROM:+0100
TZOFFSETTO:+0200
TZNAME:CEST
DTSTART:20260329T010000
END:DAYLIGHT
BEGIN:STANDARD
TZOFFSETFROM:+0200
TZOFFSETTO:+0100
TZNAME:CET
DTSTART:20261025T010000
END:STANDARD
END:VTIMEZONE
BEGIN:VEVENT
DTSTART;VALUE=DATE:20250103
DTEND;VALUE=DATE:20250106
DTSTAMP:20260420T041303
CREATED:20241205T155746Z
LAST-MODIFIED:20241206T191639Z
UID:10001032-1735862400-1736121599@bhaktimarga.at
SUMMARY:All Devotee Treffen Österreich
DESCRIPTION:All Devotee Treffen Österreich\nmit Swami Madhava\nFür alle Devotees\, Followers und Interessierte \n3.1. 25 bis 5.1.25 \nVeranstaltungsort:\nAdhoksaja Dham\nAgathenhofstrasse 24\n9322 Micheldorf/Kärnten \nAnmeldung und Kontakt: office@agathenhof.net
URL:https://bhaktimarga.at/event/all-devotee-treffen-oesterreich/
LOCATION:Adhoksaja Dham\, Agathenhofstrasse 24\, Micheldorf\, Kärnten\, 9322\, Austria
ATTACH;FMTTYPE=image/jpeg:https://bhaktimarga.at/wp-content/uploads/2024/12/gruppe.jpg
END:VEVENT
BEGIN:VEVENT
DTSTART;VALUE=DATE:20241231
DTEND;VALUE=DATE:20250101
DTSTAMP:20260420T041303
CREATED:20241205T174440Z
LAST-MODIFIED:20241205T174913Z
UID:10001033-1735603200-1735689599@bhaktimarga.at
SUMMARY:Silvesterfeier im Ashram mit Swami Madhava
DESCRIPTION:Silvesterfeier im Ashram mit Swami Madhava \nAm 31.12.24 \nVeranstaltungsort:\nAdhoksaja Dham\nAgathenhofstrasse 24\n9322 Micheldorf/Kärnten \nAnmeldung und Kontakt: office@agathenhof.net
URL:https://bhaktimarga.at/event/silvesterfeier-im-ashram-mit-swami-madhava/
LOCATION:Adhoksaja Dham\, Agathenhofstrasse 24\, Micheldorf\, Kärnten\, 9322\, Austria
ATTACH;FMTTYPE=image/jpeg:https://bhaktimarga.at/wp-content/uploads/2024/12/Sylvester.jpg
END:VEVENT
BEGIN:VEVENT
DTSTART;VALUE=DATE:20241229
DTEND;VALUE=DATE:20241231
DTSTAMP:20260420T041303
CREATED:20241205T155224Z
LAST-MODIFIED:20241205T175009Z
UID:10001030-1735430400-1735603199@bhaktimarga.at
SUMMARY:Devoteekurs mit Swami Madhava
DESCRIPTION:Devoteekurs mit Swami Madhava\n(gerne auch für Wiederholer) \n29. und 30 Dezember \nVeranstaltungsort: \nAdhoksaja Dham\nAgathenhofstrasse 24\n9322 Micheldorf/Kärnten \nAnmeldung und Kontakt:\nAdoksaja Dham Ashram: office@agathenhof.net
URL:https://bhaktimarga.at/event/devoteekurs-mit-swami-madhava/
LOCATION:Adhoksaja Dham\, Agathenhofstrasse 24\, Micheldorf\, Kärnten\, 9322\, Austria
ATTACH;FMTTYPE=image/webp:https://bhaktimarga.at/wp-content/uploads/2024/12/sw-madhava_fba2dbbc-d767-46c2-b2ec-8e90242a6e68.jpg.webp
END:VEVENT
END:VCALENDAR